BEGIN:VCALENDAR
VERSION:2.0
PRODID:-//eventon.com NONSGML v1.0//EN
CALSCALE:GREGORIAN
METHOD:PUBLISH
BEGIN:VEVENT
UID:69ea00c630aac
DTSTAMP:20260423T112142Z
DTSTART:20260302T133000Z
DTEND:20260302T143000Z
LOCATION:
SUMMARY:Sport & Bewegen bij Hartraad Vaassen
DESCRIPTION:Heel Epe Beweegt voert wekelijks een beweegactiviteit uit voor 
 inwoners van de gemeente Epe\,  vanuit een samenwerking met de Buurtpunten.
  De activiteit wordt uitgevoerd op locatie van Hartraad Vaassen. Met deze s
 amenwerking willen we meer bewegen en een gezonde leefstijl voor de deelnem
 ers stimuleren. Waarbij we deelnemers uiteindelijk willen toe[..]\nhttps://
 heelepebeweegt.nl/agenda/sport-bewegen-bij-hartraad-vaassen/
URL:https://heelepebeweegt.nl/agenda/sport-bewegen-bij-hartraad-vaassen/
END:VEVENT
END:VCALENDAR