BEGIN:VCALENDAR
VERSION:2.0
PRODID:-//eventon.com NONSGML v1.0//EN
CALSCALE:GREGORIAN
METHOD:PUBLISH
BEGIN:VEVENT
UID:69e636b2a2655
DTSTAMP:20260420T142242Z
DTSTART:20250902T100000Z
DTEND:20250902T110000Z
LOCATION:
SUMMARY:Fiets mee in Epe
DESCRIPTION:Fiets wekelijks op de dinsdag (met uitzondering van de zomervak
 antie) met ons mee in de mooie natuur van Epe! Onder begeleiding van buurts
 portcoach Wilmer kun je iedere week samen op een ontspannen en veilige mani
 er genieten van fietsen. De routes zijn rustig en geschikt voor iedereen. W
 il je een korte[..]\nhttps://heelepebeweegt.nl/agenda/fiets-mee/
URL:https://heelepebeweegt.nl/agenda/fiets-mee/
END:VEVENT
END:VCALENDAR